BEGIN:VCALENDAR
VERSION:2.0
PRODID:-//wp-events-plugin.com//7.2.3.1//EN
TZID:America/Chicago
X-WR-TIMEZONE:America/Chicago
BEGIN:VEVENT
UID:51@glendaleheightsoktoberfest.com
DTSTART;TZID=America/Chicago:20250920T200000
DTEND;TZID=America/Chicago:20250920T233000
DTSTAMP:20250908T185620Z
URL:https://glendaleheightsoktoberfest.com/events/wurst-kase-scenario-2/
SUMMARY:Wurst Kase Scenario
DESCRIPTION:
ATTACH;FMTTYPE=image/jpeg:https://glendaleheightsoktoberfest.com/wp-conten
 t/uploads/2025/09/Wurst.jpg
CATEGORIES:Music
LOCATION:Camera Park\, 101 E Fullerton Ave\, Glendale Heights\, Illinois\, 
 60139\, DuPage County\, United States
GEO:41.915231;-88.08541
X-APPLE-STRUCTURED-LOCATION;VALUE=URI;X-ADDRESS=101 E Fullerton Ave\, Glend
 ale Heights\, Illinois\, 60139\, DuPage County\, United States;X-APPLE-RAD
 IUS=100;X-TITLE=Camera Park:geo:41.915231,-88.08541
END:VEVENT
BEGIN:VTIMEZONE
TZID:America/Chicago
X-LIC-LOCATION:America/Chicago
BEGIN:DAYLIGHT
DTSTART:20250309T030000
TZOFFSETFROM:-0600
TZOFFSETTO:-0500
TZNAME:CDT
END:DAYLIGHT
END:VTIMEZONE
END:VCALENDAR